BEGIN:VCALENDAR
VERSION:2.0
PRODID:spatie/icalendar-generator
DESCRIPTION:Veranstaltungen von Plittersdorfer Kanu-Freunde e. V.
X-WR-CALDESC:Veranstaltungen von Plittersdorfer Kanu-Freunde e. V.
REFRESH-INTERVAL;VALUE=DURATION:PT1440M
X-PUBLISHED-TTL:PT1440M
BEGIN:VTIMEZONE
TZID:Europe/Berlin
BEGIN:STANDARD
DTSTART:20251026T030000Z
TZOFFSETFROM:+0200
TZOFFSETTO:+0100
END:STANDARD
BEGIN:DAYLIGHT
DTSTART:20260329T020000Z
TZOFFSETFROM:+0100
TZOFFSETTO:+0200
END:DAYLIGHT
BEGIN:STANDARD
DTSTART:20261025T030000Z
TZOFFSETFROM:+0200
TZOFFSETTO:+0100
END:STANDARD
END:VTIMEZONE
BEGIN:VTIMEZONE
TZID:UTC
BEGIN:STANDARD
DTSTART:20250725T134453Z
TZOFFSETFROM:+0000
TZOFFSETTO:+0000
END:STANDARD
END:VTIMEZONE
BEGIN:VEVENT
UID:455-96
DTSTAMP:20260421T134453Z
SUMMARY:Hohenlimburg
LOCATION:
ORGANIZER;CN=Stefani Strohm:MAILTO:hallo@pkf-bonn.de
DTSTART;TZID=Europe/Berlin;VALUE=DATE:20260712
DTEND;TZID=Europe/Berlin;VALUE=DATE:20260713
X-ALT-DESC;FMTTYPE=TEXT/HTML:Wildwassertraining mit Franziska
CATEGORIES:Training
URL;VALUE=URI:https://pkf-bonn.de/mc-events/hohenlimburg/
METHOD:PUBLISH
END:VEVENT
END:VCALENDAR